BEGIN:VCALENDAR
VERSION:2.0
PRODID:spatie/icalendar-generator
DESCRIPTION:Events from Wyndance Golf
X-WR-CALDESC:Events from Wyndance Golf
REFRESH-INTERVAL;VALUE=DURATION:PT1440M
X-PUBLISHED-TTL:PT1440M
BEGIN:VTIMEZONE
TZID:Etc/GMT+0
BEGIN:STANDARD
DTSTART:20250912T133000Z
TZOFFSETFROM:+0000
TZOFFSETTO:+0000
END:STANDARD
END:VTIMEZONE
BEGIN:VTIMEZONE
TZID:UTC
BEGIN:STANDARD
DTSTART:20250729T152757Z
TZOFFSETFROM:+0000
TZOFFSETTO:+0000
END:STANDARD
END:VTIMEZONE
BEGIN:VEVENT
UID:65-25
DTSTAMP:20260425T152757Z
SUMMARY:Corporate event - 1:30 PM
LOCATION:
ORGANIZER;CN=Lee Meredith:MAILTO:leemer3017@gmail.com
DTSTART;TZID=Etc/GMT+0:20260609T133000
DTEND;TZID=Etc/GMT+0:20260609T143000
X-ALT-DESC;FMTTYPE=TEXT/HTML:Course closed and all rounds must be completed
  before 1 PM
CATEGORIES:2026 Events
URL;VALUE=URI:https://wyndancegolf.ca/mc-events/corporate-event-130-pm/
METHOD:PUBLISH
END:VEVENT
END:VCALENDAR