BEGIN:VCALENDAR
VERSION:2.0
PRODID:spatie/icalendar-generator
DESCRIPTION:Events from Wyndance Golf
X-WR-CALDESC:Events from Wyndance Golf
REFRESH-INTERVAL;VALUE=DURATION:PT1440M
X-PUBLISHED-TTL:PT1440M
BEGIN:VTIMEZONE
TZID:Etc/GMT+0
BEGIN:STANDARD
DTSTART:20250812T160000Z
TZOFFSETFROM:+0000
TZOFFSETTO:+0000
END:STANDARD
END:VTIMEZONE
BEGIN:VTIMEZONE
TZID:UTC
BEGIN:STANDARD
DTSTART:20250729T141931Z
TZOFFSETFROM:+0000
TZOFFSETTO:+0000
END:STANDARD
END:VTIMEZONE
BEGIN:VEVENT
UID:64-24
DTSTAMP:20260425T141931Z
SUMMARY:Ryder Cup Confirmation
LOCATION:
ORGANIZER;CN=Lee Meredith:MAILTO:leemer3017@gmail.com
DTSTART;TZID=Etc/GMT+0:20260509T160000
DTEND;TZID=Etc/GMT+0:20260509T164500
X-ALT-DESC;FMTTYPE=TEXT/HTML:Locking in reminder day for Shirt Ordering
CATEGORIES:2026 Events
URL;VALUE=URI:https://wyndancegolf.ca/mc-events/ryder-cup-confirmation/
METHOD:PUBLISH
END:VEVENT
END:VCALENDAR