BEGIN:VCALENDAR
VERSION:2.0
PRODID:spatie/icalendar-generator
DESCRIPTION:Events from Wyndance Golf
X-WR-CALDESC:Events from Wyndance Golf
REFRESH-INTERVAL;VALUE=DURATION:PT1440M
X-PUBLISHED-TTL:PT1440M
BEGIN:VTIMEZONE
TZID:Etc/GMT+0
BEGIN:STANDARD
DTSTART:20250826T080000Z
TZOFFSETFROM:+0000
TZOFFSETTO:+0000
END:STANDARD
END:VTIMEZONE
BEGIN:VTIMEZONE
TZID:UTC
BEGIN:STANDARD
DTSTART:20250729T114340Z
TZOFFSETFROM:+0000
TZOFFSETTO:+0000
END:STANDARD
END:VTIMEZONE
BEGIN:VEVENT
UID:62-22
DTSTAMP:20260425T114340Z
SUMMARY:Spring Challenge - 4 Man
LOCATION:
ORGANIZER;CN=Lee Meredith:MAILTO:leemer3017@gmail.com
DTSTART;TZID=Etc/GMT+0:20260523T080000
DTEND;TZID=Etc/GMT+0:20260523T150000
X-ALT-DESC;FMTTYPE=TEXT/HTML:Form your own four person team - net handicaps
  $25 entry fee
CATEGORIES:2026 Events
URL;VALUE=URI:https://wyndancegolf.ca/mc-events/spring-challenge-4-man/
METHOD:PUBLISH
END:VEVENT
END:VCALENDAR