BEGIN:VCALENDAR
VERSION:2.0
PRODID:spatie/icalendar-generator
DESCRIPTION:Events from Wyndance Golf
X-WR-CALDESC:Events from Wyndance Golf
REFRESH-INTERVAL;VALUE=DURATION:PT1440M
X-PUBLISHED-TTL:PT1440M
BEGIN:VTIMEZONE
TZID:Etc/GMT+0
BEGIN:STANDARD
DTSTART:20260111T100000Z
TZOFFSETFROM:+0000
TZOFFSETTO:+0000
END:STANDARD
END:VTIMEZONE
BEGIN:VTIMEZONE
TZID:UTC
BEGIN:STANDARD
DTSTART:20250729T020728Z
TZOFFSETFROM:+0000
TZOFFSETTO:+0000
END:STANDARD
END:VTIMEZONE
BEGIN:VEVENT
UID:55-15
DTSTAMP:20260425T020728Z
SUMMARY:Tip &amp;amp\; Tuck
LOCATION:
ORGANIZER;CN=Lee Meredith:MAILTO:leemer3017@gmail.com
DTSTART;TZID=Etc/GMT+0:20261008T100000
DTEND;TZID=Etc/GMT+0:20261008T170000
X-ALT-DESC;FMTTYPE=TEXT/HTML:See Rule Sheet with maximum Handicaps for 1st\
 , 2nd and 3rd members of the foursomes Entry fee required
CATEGORIES:2026 Events
URL;VALUE=URI:https://wyndancegolf.ca/mc-events/tip-tuck/
METHOD:PUBLISH
END:VEVENT
END:VCALENDAR