BEGIN:VCALENDAR
VERSION:2.0
PRODID:spatie/icalendar-generator
DESCRIPTION:Events from Wyndance Golf
X-WR-CALDESC:Events from Wyndance Golf
REFRESH-INTERVAL;VALUE=DURATION:PT1440M
X-PUBLISHED-TTL:PT1440M
BEGIN:VTIMEZONE
TZID:Etc/GMT+0
BEGIN:STANDARD
DTSTART:20260106T130000Z
TZOFFSETFROM:+0000
TZOFFSETTO:+0000
END:STANDARD
END:VTIMEZONE
BEGIN:VTIMEZONE
TZID:UTC
BEGIN:STANDARD
DTSTART:20250729T004325Z
TZOFFSETFROM:+0000
TZOFFSETTO:+0000
END:STANDARD
END:VTIMEZONE
BEGIN:VEVENT
UID:54-14
DTSTAMP:20260425T004325Z
SUMMARY:Closing Field Day - Mixed
LOCATION:
ORGANIZER;CN=Lee Meredith:MAILTO:leemer3017@gmail.com
DTSTART;TZID=Etc/GMT+0:20261003T130000
DTEND;TZID=Etc/GMT+0:20261003T140000
X-ALT-DESC;FMTTYPE=TEXT/HTML:Sign up in the pro shop Teams and format of ne
 t event TBD
CATEGORIES:2026 Events
URL;VALUE=URI:https://wyndancegolf.ca/mc-events/closing-field-day-mixed/
METHOD:PUBLISH
END:VEVENT
END:VCALENDAR