BEGIN:VCALENDAR
VERSION:2.0
PRODID:spatie/icalendar-generator
DESCRIPTION:Events from Wyndance Golf
X-WR-CALDESC:Events from Wyndance Golf
REFRESH-INTERVAL;VALUE=DURATION:PT1440M
X-PUBLISHED-TTL:PT1440M
BEGIN:VTIMEZONE
TZID:Etc/GMT+0
BEGIN:STANDARD
DTSTART:20260104T130000Z
TZOFFSETFROM:+0000
TZOFFSETTO:+0000
END:STANDARD
END:VTIMEZONE
BEGIN:VTIMEZONE
TZID:UTC
BEGIN:STANDARD
DTSTART:20250728T232520Z
TZOFFSETFROM:+0000
TZOFFSETTO:+0000
END:STANDARD
END:VTIMEZONE
BEGIN:VEVENT
UID:53-13
DTSTAMP:20260424T232520Z
SUMMARY:Men's Night - Captain's Cup
LOCATION:
ORGANIZER;CN=Lee Meredith:MAILTO:leemer3017@gmail.com
DTSTART;TZID=Etc/GMT+0:20261001T130000
DTEND;TZID=Etc/GMT+0:20261001T140000
X-ALT-DESC;FMTTYPE=TEXT/HTML:No Guests - last Men's Night of the season Tea
 m Bullock vs. Team Farrell Winners eat steak\, and losers have the weiners
  and beans
CATEGORIES:2026 Events
URL;VALUE=URI:https://wyndancegolf.ca/mc-events/mens-night-captains-cup/
METHOD:PUBLISH
END:VEVENT
END:VCALENDAR