BEGIN:VCALENDAR
VERSION:2.0
PRODID:spatie/icalendar-generator
DESCRIPTION:Events from Wyndance Golf
X-WR-CALDESC:Events from Wyndance Golf
REFRESH-INTERVAL;VALUE=DURATION:PT1440M
X-PUBLISHED-TTL:PT1440M
BEGIN:VTIMEZONE
TZID:Etc/GMT+0
BEGIN:STANDARD
DTSTART:20251130T140000Z
TZOFFSETFROM:+0000
TZOFFSETTO:+0000
END:STANDARD
END:VTIMEZONE
BEGIN:VTIMEZONE
TZID:UTC
BEGIN:STANDARD
DTSTART:20250728T205531Z
TZOFFSETFROM:+0000
TZOFFSETTO:+0000
END:STANDARD
END:VTIMEZONE
BEGIN:VEVENT
UID:51-11
DTSTAMP:20260424T205531Z
SUMMARY:Club Championships - Champ and A Flight
LOCATION:
ORGANIZER;CN=Lee Meredith:MAILTO:leemer3017@gmail.com
DTSTART;TZID=Etc/GMT+0:20260827T140000
DTEND;TZID=Etc/GMT+0:20260827T150000
X-ALT-DESC;FMTTYPE=TEXT/HTML:Friday is Champ Flight (Gold tees) and A fligh
 t (Blue Tees)
CATEGORIES:2026 Events
URL;VALUE=URI:https://wyndancegolf.ca/mc-events/club-championships-champ-an
 d-a-flight/
METHOD:PUBLISH
END:VEVENT
END:VCALENDAR