BEGIN:VCALENDAR
VERSION:2.0
PRODID:spatie/icalendar-generator
DESCRIPTION:Events from Wyndance Golf
X-WR-CALDESC:Events from Wyndance Golf
REFRESH-INTERVAL;VALUE=DURATION:PT1440M
X-PUBLISHED-TTL:PT1440M
BEGIN:VTIMEZONE
TZID:Etc/GMT+0
BEGIN:STANDARD
DTSTART:20251123T080000Z
TZOFFSETFROM:+0000
TZOFFSETTO:+0000
END:STANDARD
END:VTIMEZONE
BEGIN:VTIMEZONE
TZID:UTC
BEGIN:STANDARD
DTSTART:20250728T182302Z
TZOFFSETFROM:+0000
TZOFFSETTO:+0000
END:STANDARD
END:VTIMEZONE
BEGIN:VEVENT
UID:46-9
DTSTAMP:20260424T182302Z
SUMMARY:Men's Member Guest
LOCATION:
ORGANIZER;CN=Lee Meredith:MAILTO:leemer3017@gmail.com
RRULE:FREQ=DAILY;UNTIL=20260821T000000Z
DTSTART;TZID=Etc/GMT+0:20260820T080000
DTEND;TZID=Etc/GMT+0:20260820T220000
X-ALT-DESC;FMTTYPE=TEXT/HTML:Party Time of 5 9 hole competitions net better
  ball with a playoff
CATEGORIES:2026 Events
URL;VALUE=URI:https://wyndancegolf.ca/mc-events/mens-member-guest/?mc_id=46
METHOD:PUBLISH
END:VEVENT
END:VCALENDAR