BEGIN:VCALENDAR
VERSION:2.0
PRODID:spatie/icalendar-generator
DESCRIPTION:Events from Wyndance Golf
X-WR-CALDESC:Events from Wyndance Golf
REFRESH-INTERVAL;VALUE=DURATION:PT1440M
X-PUBLISHED-TTL:PT1440M
BEGIN:VTIMEZONE
TZID:Etc/GMT+0
BEGIN:STANDARD
DTSTART:20251012T140000Z
TZOFFSETFROM:+0000
TZOFFSETTO:+0000
END:STANDARD
END:VTIMEZONE
BEGIN:VTIMEZONE
TZID:UTC
BEGIN:STANDARD
DTSTART:20250728T154552Z
TZOFFSETFROM:+0000
TZOFFSETTO:+0000
END:STANDARD
END:VTIMEZONE
BEGIN:VEVENT
UID:41-7
DTSTAMP:20260424T154552Z
SUMMARY:Men's Night
LOCATION:
ORGANIZER;CN=Lee Meredith:MAILTO:leemer3017@gmail.com
RRULE:FREQ=WEEKLY;UNTIL=20260806T000000Z
DTSTART;TZID=Etc/GMT+0:20260709T140000
DTEND;TZID=Etc/GMT+0:20260709T150000
X-ALT-DESC;FMTTYPE=TEXT/HTML:
CATEGORIES:2026 Events
URL;VALUE=URI:https://wyndancegolf.ca/mc-events/mens-night-2/?mc_id=41
METHOD:PUBLISH
END:VEVENT
END:VCALENDAR