BEGIN:VCALENDAR
VERSION:2.0
PRODID:spatie/icalendar-generator
DESCRIPTION:Events from Wyndance Golf
X-WR-CALDESC:Events from Wyndance Golf
REFRESH-INTERVAL;VALUE=DURATION:PT1440M
X-PUBLISHED-TTL:PT1440M
BEGIN:VTIMEZONE
TZID:Etc/GMT+0
BEGIN:STANDARD
DTSTART:20251005T140000Z
TZOFFSETFROM:+0000
TZOFFSETTO:+0000
END:STANDARD
END:VTIMEZONE
BEGIN:VTIMEZONE
TZID:UTC
BEGIN:STANDARD
DTSTART:20250728T141415Z
TZOFFSETFROM:+0000
TZOFFSETTO:+0000
END:STANDARD
END:VTIMEZONE
BEGIN:VEVENT
UID:40-6
DTSTAMP:20260424T141415Z
SUMMARY:Men's Night - Lottery MMG
LOCATION:
ORGANIZER;CN=Lee Meredith:MAILTO:leemer3017@gmail.com
DTSTART;TZID=Etc/GMT+0:20260702T140000
DTEND;TZID=Etc/GMT+0:20260702T200000
X-ALT-DESC;FMTTYPE=TEXT/HTML:Standard Men's Night however there will be a l
 ottery for the demand of 60 spots in the Men's Member Guest in August
CATEGORIES:2026 Events
URL;VALUE=URI:https://wyndancegolf.ca/mc-events/mens-night-lottery-mmg/
METHOD:PUBLISH
END:VEVENT
END:VCALENDAR