BEGIN:VCALENDAR
VERSION:2.0
PRODID:spatie/icalendar-generator
DESCRIPTION:Events from Wyndance Golf
X-WR-CALDESC:Events from Wyndance Golf
REFRESH-INTERVAL;VALUE=DURATION:PT1440M
X-PUBLISHED-TTL:PT1440M
BEGIN:VTIMEZONE
TZID:Etc/GMT+0
BEGIN:STANDARD
DTSTART:20250805T083000Z
TZOFFSETFROM:+0000
TZOFFSETTO:+0000
END:STANDARD
END:VTIMEZONE
BEGIN:VTIMEZONE
TZID:UTC
BEGIN:STANDARD
DTSTART:20250728T110446Z
TZOFFSETFROM:+0000
TZOFFSETTO:+0000
END:STANDARD
END:VTIMEZONE
BEGIN:VEVENT
UID:30-4
DTSTAMP:20260424T110446Z
SUMMARY:Opening Shark Scramble - Mixed Event
LOCATION:
ORGANIZER;CN=Lee Meredith:MAILTO:leemer3017@gmail.com
DTSTART;TZID=Etc/GMT+0:20260502T083000
DTEND;TZID=Etc/GMT+0:20260502T140000
X-ALT-DESC;FMTTYPE=TEXT/HTML:Sign up in the pro shop
CATEGORIES:2026 Events
URL;VALUE=URI:https://wyndancegolf.ca/mc-events/opening-shark-scramble-mixe
 d-event/
METHOD:PUBLISH
END:VEVENT
END:VCALENDAR