BEGIN:VCALENDAR
VERSION:2.0
PRODID:spatie/icalendar-generator
DESCRIPTION:Events from Wyndance Golf
X-WR-CALDESC:Events from Wyndance Golf
REFRESH-INTERVAL;VALUE=DURATION:PT1440M
X-PUBLISHED-TTL:PT1440M
BEGIN:VTIMEZONE
TZID:Etc/GMT+0
BEGIN:STANDARD
DTSTART:20250721T083000Z
TZOFFSETFROM:+0000
TZOFFSETTO:+0000
END:STANDARD
END:VTIMEZONE
BEGIN:VTIMEZONE
TZID:UTC
BEGIN:STANDARD
DTSTART:20250728T094618Z
TZOFFSETFROM:+0000
TZOFFSETTO:+0000
END:STANDARD
END:VTIMEZONE
BEGIN:VEVENT
UID:29-3
DTSTAMP:20260424T094618Z
SUMMARY:Opening Day- Best Guess
LOCATION:
ORGANIZER;CN=Lee Meredith:MAILTO:leemer3017@gmail.com
DTSTART;TZID=Etc/GMT+0:20260417T083000
DTEND;TZID=Etc/GMT+0:20260417T093000
X-ALT-DESC;FMTTYPE=TEXT/HTML:
CATEGORIES:2026 Events
URL;VALUE=URI:https://wyndancegolf.ca/mc-events/opening-day-best-guess/
METHOD:PUBLISH
END:VEVENT
END:VCALENDAR