BEGIN:VCALENDAR
VERSION:2.0
PRODID:spatie/icalendar-generator
DESCRIPTION:Events from Wyndance Golf
X-WR-CALDESC:Events from Wyndance Golf
REFRESH-INTERVAL;VALUE=DURATION:PT1440M
X-PUBLISHED-TTL:PT1440M
BEGIN:VTIMEZONE
TZID:Etc/GMT+0
BEGIN:STANDARD
DTSTART:20250813T160000Z
TZOFFSETFROM:+0000
TZOFFSETTO:+0000
END:STANDARD
END:VTIMEZONE
BEGIN:VTIMEZONE
TZID:UTC
BEGIN:STANDARD
DTSTART:20250729T142101Z
TZOFFSETFROM:+0000
TZOFFSETTO:+0000
END:STANDARD
END:VTIMEZONE
BEGIN:VEVENT
UID:63-23
DTSTAMP:20260425T142101Z
SUMMARY:Final Match Play Signup
LOCATION:
ORGANIZER;CN=Lee Meredith:MAILTO:leemer3017@gmail.com
DTSTART;TZID=Etc/GMT+0:20260510T160000
DTEND;TZID=Etc/GMT+0:20260510T163000
X-ALT-DESC;FMTTYPE=TEXT/HTML:Signup and entry fee paid in pro shop for Gros
 s Singles\, Net Singles and Net Doubles
CATEGORIES:2026 Events
URL;VALUE=URI:https://wyndancegolf.ca/mc-events/final-match-play-signup/
METHOD:PUBLISH
END:VEVENT
END:VCALENDAR