BEGIN:VCALENDAR
VERSION:2.0
PRODID:spatie/icalendar-generator
DESCRIPTION:Events from Wyndance Golf
X-WR-CALDESC:Events from Wyndance Golf
REFRESH-INTERVAL;VALUE=DURATION:PT1440M
X-PUBLISHED-TTL:PT1440M
BEGIN:VTIMEZONE
TZID:Etc/GMT+0
BEGIN:STANDARD
DTSTART:20250930T100000Z
TZOFFSETFROM:+0000
TZOFFSETTO:+0000
END:STANDARD
END:VTIMEZONE
BEGIN:VTIMEZONE
TZID:UTC
BEGIN:STANDARD
DTSTART:20250729T113900Z
TZOFFSETFROM:+0000
TZOFFSETTO:+0000
END:STANDARD
END:VTIMEZONE
BEGIN:VEVENT
UID:61-21
DTSTAMP:20260425T113900Z
SUMMARY:Chaos - Down Under
LOCATION:
ORGANIZER;CN=Lee Meredith:MAILTO:leemer3017@gmail.com
DTSTART;TZID=Etc/GMT+0:20260627T100000
DTEND;TZID=Etc/GMT+0:20260627T150000
X-ALT-DESC;FMTTYPE=TEXT/HTML:Format TBD Playing the 9 hole Down under cours
 e
CATEGORIES:2026 Events
URL;VALUE=URI:https://wyndancegolf.ca/mc-events/chaos-down-under/
METHOD:PUBLISH
END:VEVENT
END:VCALENDAR