BEGIN:VCALENDAR
VERSION:2.0
PRODID:spatie/icalendar-generator
DESCRIPTION:Events from Wyndance Golf
X-WR-CALDESC:Events from Wyndance Golf
REFRESH-INTERVAL;VALUE=DURATION:PT1440M
X-PUBLISHED-TTL:PT1440M
BEGIN:VTIMEZONE
TZID:Etc/GMT+0
BEGIN:STANDARD
DTSTART:20250802T080000Z
TZOFFSETFROM:+0000
TZOFFSETTO:+0000
END:STANDARD
END:VTIMEZONE
BEGIN:VTIMEZONE
TZID:UTC
BEGIN:STANDARD
DTSTART:20250726T121239Z
TZOFFSETFROM:+0000
TZOFFSETTO:+0000
END:STANDARD
END:VTIMEZONE
BEGIN:VEVENT
UID:2-2
DTSTAMP:20260422T121239Z
SUMMARY:Wednesday Morning Group $20 Game
LOCATION:
ORGANIZER;CN=Lee Meredith:MAILTO:leemer3017@gmail.com
RRULE:FREQ=WEEKLY;UNTIL=20261029T000000Z
DTSTART;TZID=Etc/GMT+0:20260429T080000
DTEND;TZID=Etc/GMT+0:20260429T133000
X-ALT-DESC;FMTTYPE=TEXT/HTML:Groups and Net Handicap Game of the week email
 ed Sunday evening by Neil Bullock or Mike Farrell
CATEGORIES:2026 Events
URL;VALUE=URI:https://wyndancegolf.ca/mc-events/wednesday-morning-group-20-
 game/?mc_id=2
METHOD:PUBLISH
END:VEVENT
END:VCALENDAR